BEGIN:VCALENDAR
VERSION:2.0
PRODID:-//time.now/holidays//NONSGML v1.0//EN
BEGIN:VEVENT
UID:7cdf1f69-5d87-4ade-bbfb-5e93df29ea34
DTSTAMP:20260420T174718Z
DTSTART;VALUE=DATE:20260404
SUMMARY:Holy Saturday (Guatemala)
END:VEVENT
END:VCALENDAR