BEGIN:VCALENDAR
VERSION:2.0
PRODID:-//time.now/holidays//NONSGML v1.0//EN
BEGIN:VEVENT
UID:de950b9e-2a3a-4125-b603-fadcc4a4818c
DTSTAMP:20260420T060853Z
DTSTART;VALUE=DATE:20260403
SUMMARY:Good Friday (Guatemala)
END:VEVENT
END:VCALENDAR