BEGIN:VCALENDAR
VERSION:2.0
PRODID:-//time.now/holidays//NONSGML v1.0//EN
BEGIN:VEVENT
UID:dd034528-0eac-4aa0-9fdd-dca4679c76fd
DTSTAMP:20260420T155429Z
DTSTART;VALUE=DATE:20261225
SUMMARY:Christmas Day (Guatemala)
END:VEVENT
END:VCALENDAR