BEGIN:VCALENDAR
VERSION:2.0
PRODID:-//time.now/holidays//NONSGML v1.0//EN
BEGIN:VEVENT
UID:6a543ec2-1c9b-41a7-b29b-68c251852ad0
DTSTAMP:20260420T174420Z
DTSTART;VALUE=DATE:20260629
SUMMARY:Army Day (Guatemala)
END:VEVENT
END:VCALENDAR