BEGIN:VCALENDAR
VERSION:2.0
PRODID:-//time.now/holidays//NONSGML v1.0//EN
BEGIN:VEVENT
UID:553e2993-0c94-4f66-8374-320d1ebb74f4
DTSTAMP:20260420T170221Z
DTSTART;VALUE=DATE:20261101
SUMMARY:All Saints' Day (Guatemala)
END:VEVENT
END:VCALENDAR