BEGIN:VCALENDAR
VERSION:2.0
PRODID:-//time.now/holidays//NONSGML v1.0//EN
BEGIN:VEVENT
UID:c942aaea-705c-4342-80c2-7c2b0a25b09a
DTSTAMP:20260420T123912Z
DTSTART;VALUE=DATE:20260216
SUMMARY:Washington's Birthday (Guam)
END:VEVENT
END:VCALENDAR