BEGIN:VCALENDAR
VERSION:2.0
PRODID:-//time.now/holidays//NONSGML v1.0//EN
BEGIN:VEVENT
UID:b292be79-8022-4bb3-8b28-96c628554b47
DTSTAMP:20260420T185627Z
DTSTART;VALUE=DATE:20260721
SUMMARY:Liberation Day (Guam) (Guam)
END:VEVENT
END:VCALENDAR