BEGIN:VCALENDAR
VERSION:2.0
PRODID:-//time.now/holidays//NONSGML v1.0//EN
BEGIN:VEVENT
UID:dbda30fd-f5e6-41d1-9767-9ff0bd9c3f35
DTSTAMP:20260422T091325Z
DTSTART;VALUE=DATE:20261208
SUMMARY:Lady of Camarin Day (Guam)
END:VEVENT
END:VCALENDAR