BEGIN:VCALENDAR
VERSION:2.0
PRODID:-//time.now/holidays//NONSGML v1.0//EN
BEGIN:VEVENT
UID:48453792-0c6f-4480-a384-57d3b76b0fdf
DTSTAMP:20260420T042328Z
DTSTART;VALUE=DATE:20260907
SUMMARY:Labor Day (Guam)
END:VEVENT
END:VCALENDAR