BEGIN:VCALENDAR
VERSION:2.0
PRODID:-//time.now/holidays//NONSGML v1.0//EN
BEGIN:VEVENT
UID:96cbf575-e25d-4f29-a601-caf7dbf4bce0
DTSTAMP:20260420T080743Z
DTSTART;VALUE=DATE:20260703
SUMMARY:Independence Day (observed) (Guam)
END:VEVENT
END:VCALENDAR