BEGIN:VCALENDAR
VERSION:2.0
PRODID:-//time.now/holidays//NONSGML v1.0//EN
BEGIN:VEVENT
UID:d9c8f725-4240-4905-b06b-693b1817670b
DTSTAMP:20260420T114703Z
DTSTART;VALUE=DATE:20261026
SUMMARY:Thanksgiving Day (observed) (Grenade)
END:VEVENT
END:VCALENDAR