BEGIN:VCALENDAR
VERSION:2.0
PRODID:-//time.now/holidays//NONSGML v1.0//EN
BEGIN:VEVENT
UID:7445deb7-5b11-41d2-931a-d660792b5d1c
DTSTAMP:20260420T101423Z
DTSTART;VALUE=DATE:20340102
SUMMARY:New Year's Day (observed) (Grenade)
END:VEVENT
END:VCALENDAR