BEGIN:VCALENDAR
VERSION:2.0
PRODID:-//time.now/holidays//NONSGML v1.0//EN
BEGIN:VEVENT
UID:cea98055-cb1d-4bb1-b638-51e34273b66d
DTSTAMP:20260420T031106Z
DTSTART;VALUE=DATE:20270802
SUMMARY:Emancipation Day (observed) (Grenade)
END:VEVENT
END:VCALENDAR