BEGIN:VCALENDAR
VERSION:2.0
PRODID:-//time.now/holidays//NONSGML v1.0//EN
BEGIN:VEVENT
UID:d1874231-9f2c-47fa-b4ff-a9b5062dcd95
DTSTAMP:20260420T172346Z
DTSTART;VALUE=DATE:20230704
SUMMARY:CARICOM's 50th Anniversary (Grenade)
END:VEVENT
END:VCALENDAR