BEGIN:VCALENDAR
VERSION:2.0
PRODID:-//time.now/holidays//NONSGML v1.0//EN
BEGIN:VEVENT
UID:10ece880-6644-42fe-a400-69ca805c8291
DTSTAMP:20260420T201500Z
DTSTART;VALUE=DATE:20331226
SUMMARY:Boxing Day; Christmas Day (observed) (Grenade)
END:VEVENT
END:VCALENDAR