BEGIN:VCALENDAR
VERSION:2.0
PRODID:-//time.now/holidays//NONSGML v1.0//EN
BEGIN:VEVENT
UID:4cd89fac-e8af-40af-a12a-f00325376133
DTSTAMP:20260420T185520Z
DTSTART;VALUE=DATE:20260101
SUMMARY:New Year's Day (Groenland)
END:VEVENT
END:VCALENDAR