BEGIN:VCALENDAR
VERSION:2.0
PRODID:-//time.now/holidays//NONSGML v1.0//EN
BEGIN:VEVENT
UID:99e47bdc-c170-41e7-9b29-80e756e7c640
DTSTAMP:20260420T073952Z
DTSTART;VALUE=DATE:20270504
SUMMARY:Labor Day (observed) (Grèce)
END:VEVENT
END:VCALENDAR