BEGIN:VCALENDAR
VERSION:2.0
PRODID:-//time.now/holidays//NONSGML v1.0//EN
BEGIN:VEVENT
UID:f069d4f3-5501-45d3-96c5-1068335515a7
DTSTAMP:20260420T051612Z
DTSTART;VALUE=DATE:20260223
SUMMARY:Green Monday (Grèce)
END:VEVENT
END:VCALENDAR