BEGIN:VCALENDAR
VERSION:2.0
PRODID:-//time.now/holidays//NONSGML v1.0//EN
BEGIN:VEVENT
UID:98864827-190d-492e-ba08-6e01ae9abb66
DTSTAMP:20260422T104106Z
DTSTART;VALUE=DATE:20260815
SUMMARY:Dormition of the Mother of God (Grèce)
END:VEVENT
END:VCALENDAR