BEGIN:VCALENDAR
VERSION:2.0
PRODID:-//time.now/holidays//NONSGML v1.0//EN
BEGIN:VEVENT
UID:00a9bfd4-b6f1-410f-aa2b-f0079d16a0c8
DTSTAMP:20260420T103322Z
DTSTART;VALUE=DATE:20260306
SUMMARY:Independence Day (Ghana)
END:VEVENT
END:VCALENDAR