BEGIN:VCALENDAR
VERSION:2.0
PRODID:-//time.now/holidays//NONSGML v1.0//EN
BEGIN:VEVENT
UID:e8dee6d3-ef04-4938-a5db-bc96531da7cd
DTSTAMP:20260420T151844Z
DTSTART;VALUE=DATE:20270308
SUMMARY:Independence Day (observed) (Ghana)
END:VEVENT
END:VCALENDAR