BEGIN:VCALENDAR
VERSION:2.0
PRODID:-//time.now/holidays//NONSGML v1.0//EN
BEGIN:VEVENT
UID:33f31b32-c95f-429b-af23-eede0d617fe3
DTSTAMP:20260420T122502Z
DTSTART;VALUE=DATE:20261226
SUMMARY:Boxing Day (Ghana)
END:VEVENT
END:VCALENDAR