BEGIN:VCALENDAR
VERSION:2.0
PRODID:-//time.now/holidays//NONSGML v1.0//EN
BEGIN:VEVENT
UID:63073744-c1ce-4cf3-86f0-0a53f0c696d4
DTSTAMP:20260420T035305Z
DTSTART;VALUE=DATE:20260525
SUMMARY:Whit Monday (Allemagne)
END:VEVENT
END:VCALENDAR