BEGIN:VCALENDAR
VERSION:2.0
PRODID:-//time.now/holidays//NONSGML v1.0//EN
BEGIN:VEVENT
UID:a6f07c2b-c6d0-462c-a8f5-a650575d9968
DTSTAMP:20260420T073335Z
DTSTART;VALUE=DATE:20261031
SUMMARY:Reformation Day (Allemagne)
END:VEVENT
END:VCALENDAR