BEGIN:VCALENDAR
VERSION:2.0
PRODID:-//time.now/holidays//NONSGML v1.0//EN
BEGIN:VEVENT
UID:a1061e5a-b436-4d03-8b08-7b4407750191
DTSTAMP:20260420T005100Z
DTSTART;VALUE=DATE:20261003
SUMMARY:German Unity Day (Allemagne)
END:VEVENT
END:VCALENDAR