BEGIN:VCALENDAR
VERSION:2.0
PRODID:-//time.now/holidays//NONSGML v1.0//EN
BEGIN:VEVENT
UID:f6e9cec9-6fea-45aa-be31-cbbbd5486db4
DTSTAMP:20260419T231754Z
DTSTART;VALUE=DATE:20260405
SUMMARY:Easter Sunday (Allemagne)
END:VEVENT
END:VCALENDAR