BEGIN:VCALENDAR
VERSION:2.0
PRODID:-//time.now/holidays//NONSGML v1.0//EN
BEGIN:VEVENT
UID:e8cd6327-9b09-4c4d-98a8-e520156908cd
DTSTAMP:20260421T145507Z
DTSTART;VALUE=DATE:20261101
SUMMARY:All Saints' Day (Allemagne)
END:VEVENT
END:VCALENDAR