BEGIN:VCALENDAR
VERSION:2.0
PRODID:-//time.now/holidays//NONSGML v1.0//EN
BEGIN:VEVENT
UID:3b07d8c8-dfb3-478a-90ac-1b6564ed6f2b
DTSTAMP:20260420T044151Z
DTSTART;VALUE=DATE:20260410
SUMMARY:Good Friday (Géorgie)
END:VEVENT
END:VCALENDAR