BEGIN:VCALENDAR
VERSION:2.0
PRODID:-//time.now/holidays//NONSGML v1.0//EN
BEGIN:VEVENT
UID:1738d6f7-4638-4a1e-929f-7841c006747c
DTSTAMP:20260420T035527Z
DTSTART;VALUE=DATE:20260412
SUMMARY:Easter Sunday (Géorgie)
END:VEVENT
END:VCALENDAR