BEGIN:VCALENDAR
VERSION:2.0
PRODID:-//time.now/holidays//NONSGML v1.0//EN
BEGIN:VEVENT
UID:3d295c88-f547-4095-a2d3-08dbdefd9fdf
DTSTAMP:20260422T122752Z
DTSTART;VALUE=DATE:20260828
SUMMARY:Dormition of the Mother of God (Géorgie)
END:VEVENT
END:VCALENDAR