BEGIN:VCALENDAR
VERSION:2.0
PRODID:-//time.now/holidays//NONSGML v1.0//EN
BEGIN:VEVENT
UID:d75ece9a-c680-438b-9d59-000d26a6dc99
DTSTAMP:20260422T104059Z
DTSTART;VALUE=DATE:20260509
SUMMARY:Day of Victory over Fascism (Géorgie)
END:VEVENT
END:VCALENDAR