BEGIN:VCALENDAR
VERSION:2.0
PRODID:-//time.now/holidays//NONSGML v1.0//EN
BEGIN:VEVENT
UID:025085c0-2bd6-4101-a78d-73a0510dfd99
DTSTAMP:20260420T050103Z
DTSTART;VALUE=DATE:20260816
SUMMARY:Independence Day (Gabon)
END:VEVENT
END:VCALENDAR