BEGIN:VCALENDAR
VERSION:2.0
PRODID:-//time.now/holidays//NONSGML v1.0//EN
BEGIN:VEVENT
UID:eadfc35f-8977-4b57-89db-b703fc07db1c
DTSTAMP:20260420T000059Z
DTSTART;VALUE=DATE:20260406
SUMMARY:Easter Monday (Gabon)
END:VEVENT
END:VCALENDAR