BEGIN:VCALENDAR
VERSION:2.0
PRODID:-//time.now/holidays//NONSGML v1.0//EN
BEGIN:VEVENT
UID:3e28ab4a-657e-4451-8de9-ab67af73c1b0
DTSTAMP:20260420T205418Z
DTSTART;VALUE=DATE:20280417
SUMMARY:Easter Monday; Women's Rights Day (Gabon)
END:VEVENT
END:VCALENDAR