BEGIN:VCALENDAR
VERSION:2.0
PRODID:-//time.now/holidays//NONSGML v1.0//EN
BEGIN:VEVENT
UID:0e324b05-66c0-4e99-bd57-d85b0cbb44d1
DTSTAMP:20260420T113204Z
DTSTART;VALUE=DATE:20261101
SUMMARY:All Saints' Day (Gabon)
END:VEVENT
END:VCALENDAR