BEGIN:VCALENDAR
VERSION:2.0
PRODID:-//time.now/holidays//NONSGML v1.0//EN
BEGIN:VEVENT
UID:540e5bfe-cb93-417b-87de-32bd30a52f02
DTSTAMP:20260420T215501Z
DTSTART;VALUE=DATE:20260525
SUMMARY:Whit Monday (Terres australes françaises)
END:VEVENT
END:VCALENDAR