BEGIN:VCALENDAR
VERSION:2.0
PRODID:-//time.now/holidays//NONSGML v1.0//EN
BEGIN:VEVENT
UID:b1aabe2d-b623-4535-a6b4-624ed05e97a8
DTSTAMP:20260420T215536Z
DTSTART;VALUE=DATE:20260501
SUMMARY:Labor Day (Terres australes françaises)
END:VEVENT
END:VCALENDAR