BEGIN:VCALENDAR
VERSION:2.0
PRODID:-//time.now/holidays//NONSGML v1.0//EN
BEGIN:VEVENT
UID:a1b09ec5-b640-428a-8742-30709b3ef55c
DTSTAMP:20260420T203220Z
DTSTART;VALUE=DATE:20260406
SUMMARY:Easter Monday (Terres australes françaises)
END:VEVENT
END:VCALENDAR