BEGIN:VCALENDAR
VERSION:2.0
PRODID:-//time.now/holidays//NONSGML v1.0//EN
BEGIN:VEVENT
UID:82cc27e0-dc7e-4fc4-8b90-6767a9d49623
DTSTAMP:20260420T214801Z
DTSTART;VALUE=DATE:20260815
SUMMARY:Assumption Day (Terres australes françaises)
END:VEVENT
END:VCALENDAR