BEGIN:VCALENDAR
VERSION:2.0
PRODID:-//time.now/holidays//NONSGML v1.0//EN
BEGIN:VEVENT
UID:be9ab166-6d71-43cd-8b36-2fc9621fd4d1
DTSTAMP:20260420T085033Z
DTSTART;VALUE=DATE:20260714
SUMMARY:National Day (France)
END:VEVENT
END:VCALENDAR