BEGIN:VCALENDAR
VERSION:2.0
PRODID:-//time.now/holidays//NONSGML v1.0//EN
BEGIN:VEVENT
UID:ac8454b4-1df9-444e-83ba-38f8f5f57cfe
DTSTAMP:20260420T070916Z
DTSTART;VALUE=DATE:20260501
SUMMARY:Labor Day (France)
END:VEVENT
END:VCALENDAR