BEGIN:VCALENDAR
VERSION:2.0
PRODID:-//time.now/holidays//NONSGML v1.0//EN
BEGIN:VEVENT
UID:38279474-06a8-4829-b087-c86eefcf3e80
DTSTAMP:20260421T003918Z
DTSTART;VALUE=DATE:20260729
SUMMARY:Festival of the Territory (France)
END:VEVENT
END:VCALENDAR