BEGIN:VCALENDAR
VERSION:2.0
PRODID:-//time.now/holidays//NONSGML v1.0//EN
BEGIN:VEVENT
UID:cad8793e-3a5e-4e09-a640-644a6566ac92
DTSTAMP:20260420T015646Z
DTSTART;VALUE=DATE:20260406
SUMMARY:Easter Monday (France)
END:VEVENT
END:VCALENDAR