BEGIN:VCALENDAR
VERSION:2.0
PRODID:-//time.now/holidays//NONSGML v1.0//EN
BEGIN:VEVENT
UID:fc368b54-f3de-4d06-81d6-a618d0bfb2da
DTSTAMP:20260420T150550Z
DTSTART;VALUE=DATE:20261225
SUMMARY:Christmas Day (France)
END:VEVENT
END:VCALENDAR