BEGIN:VCALENDAR
VERSION:2.0
PRODID:-//time.now/holidays//NONSGML v1.0//EN
BEGIN:VEVENT
UID:4b59b7cb-4f47-4950-a1bb-c5e72d4a7373
DTSTAMP:20260420T063416Z
DTSTART;VALUE=DATE:20260815
SUMMARY:Assumption Day (France)
END:VEVENT
END:VCALENDAR