BEGIN:VCALENDAR
VERSION:2.0
PRODID:-//time.now/holidays//NONSGML v1.0//EN
BEGIN:VEVENT
UID:b355c3e1-b36f-4749-b951-96a1251386bb
DTSTAMP:20260420T024433Z
DTSTART;VALUE=DATE:20260620
SUMMARY:Midsummer Day (Finlande)
END:VEVENT
END:VCALENDAR