BEGIN:VCALENDAR
VERSION:2.0
PRODID:-//time.now/holidays//NONSGML v1.0//EN
BEGIN:VEVENT
UID:af371600-4d9f-4c32-a29e-72e94853c372
DTSTAMP:20260420T103218Z
DTSTART;VALUE=DATE:20261206
SUMMARY:Independence Day (Finlande)
END:VEVENT
END:VCALENDAR