BEGIN:VCALENDAR
VERSION:2.0
PRODID:-//time.now/holidays//NONSGML v1.0//EN
BEGIN:VEVENT
UID:bf75d8a8-1fb0-4fc0-87fd-e57f4aa63b4d
DTSTAMP:20260420T072658Z
DTSTART;VALUE=DATE:20260403
SUMMARY:Good Friday (Finlande)
END:VEVENT
END:VCALENDAR