BEGIN:VCALENDAR
VERSION:2.0
PRODID:-//time.now/holidays//NONSGML v1.0//EN
BEGIN:VEVENT
UID:a806f724-9625-4a4b-a49d-8d5016f0cac8
DTSTAMP:20260420T014742Z
DTSTART;VALUE=DATE:20260106
SUMMARY:Epiphany (Finlande)
END:VEVENT
END:VCALENDAR