BEGIN:VCALENDAR
VERSION:2.0
PRODID:-//time.now/holidays//NONSGML v1.0//EN
BEGIN:VEVENT
UID:58709a00-f9bd-4f11-89e7-85a294a630be
DTSTAMP:20260420T061518Z
DTSTART;VALUE=DATE:20260405
SUMMARY:Easter Sunday (Finlande)
END:VEVENT
END:VCALENDAR